BEGIN:VCALENDAR
VERSION:2.0
PRODID:-//Tukios.com/
BEGIN:VEVENT
UID:d51217c8-c356-4e43-8b55-a8e8103d140c@www.skyvuefuneralhome.com
DTSTAMP:20260422T191550Z
DTSTART:20260501
SUMMARY:Burial
DESCRIPTION:
URL:https://www.skyvuefuneralhome.com/obituaries/richard-brink
LOCATION: 7100 Crowley Rd  Fort Worth TX 76134
GEO:32.6446559;-97.3488074
END:VEVENT
END:VCALENDAR