BEGIN:VCALENDAR
VERSION:2.0
PRODID:-//Tukios.com/
BEGIN:VEVENT
UID:6f87acba-551c-4344-bdb3-db3508b9b514@www.skyvuefuneralhome.com
DTSTAMP:20260422T190906Z
DTSTART:20260501T180000Z
DTEND:20260501T190000Z
SUMMARY:Funeral Service
DESCRIPTION:
URL:https://www.skyvuefuneralhome.com/obituaries/richard-brink
LOCATION: 7220 Rendon Bloodworth Rd  Mansfield TX 76063
GEO:32.572741;-97.2042229
END:VEVENT
END:VCALENDAR