BEGIN:VCALENDAR
VERSION:2.0
PRODID:-//Tukios.com/
BEGIN:VEVENT
UID:41dd22bb-4313-40b9-a681-cbd62b84ff24@www.skyvuefuneralhome.com
DTSTAMP:20260422T191248Z
DTSTART:20260430T230000Z
DTEND:20260501T010000Z
SUMMARY:Visitation
DESCRIPTION:
URL:https://www.skyvuefuneralhome.com/obituaries/richard-brink
LOCATION: 7220 Rendon Bloodworth Rd  Mansfield TX 76063
GEO:32.572741;-97.2042229
END:VEVENT
END:VCALENDAR