BEGIN:VCALENDAR
VERSION:2.0
PRODID:-//Tukios.com/
BEGIN:VEVENT
UID:d2b525de-0669-4493-a836-9c20f4dac5ee@www.skyvuefuneralhome.com
DTSTAMP:20260422T011651Z
DTSTART:20260501T150000Z
DTEND:20260501T160000Z
SUMMARY:Funeral Service
DESCRIPTION:
URL:https://www.skyvuefuneralhome.com/obituaries/mary-murphy-ramey
LOCATION: 7220 Rendon Bloodworth Rd  Mansfield TX 76063
GEO:32.572741;-97.2042229
END:VEVENT
END:VCALENDAR