BEGIN:VCALENDAR
VERSION:2.0
PRODID:-//Tukios.com/
BEGIN:VEVENT
UID:dd518aae-3efa-4f4d-9f85-456b808a9910@www.skyvuefuneralhome.com
DTSTAMP:20260422T233016Z
DTSTART:20260427T180000Z
DTEND:20260427T190000Z
SUMMARY:Funeral Service
DESCRIPTION:
URL:https://www.skyvuefuneralhome.com/obituaries/lynn-mills
LOCATION: 7220 Rendon Bloodworth Rd  Mansfield TX 76063
GEO:32.572741;-97.2042229
END:VEVENT
END:VCALENDAR