BEGIN:VCALENDAR
VERSION:2.0
PRODID:-//Tukios.com/
BEGIN:VEVENT
UID:bfd5be9c-328f-4532-a02f-1c97e13a3c7b@www.skyvuefuneralhome.com
DTSTAMP:20260424T204808Z
DTSTART:20260515
SUMMARY:Burial
DESCRIPTION:
URL:https://www.skyvuefuneralhome.com/obituaries/kofoworola-jinadu
LOCATION: 7220 Rendon Bloodworth Rd  Mansfield TX 76063
GEO:32.5731677;-97.2039199
END:VEVENT
END:VCALENDAR