BEGIN:VCALENDAR
VERSION:2.0
PRODID:-//Tukios.com/
BEGIN:VEVENT
UID:a208e386-5ee4-480d-836a-f90cc8d2ad8e@www.skyvuefuneralhome.com
DTSTAMP:20260424T205646Z
DTSTART:20260515T160000Z
DTEND:20260515T170000Z
SUMMARY:Funeral Service
DESCRIPTION:
URL:https://www.skyvuefuneralhome.com/obituaries/kofoworola-jinadu
LOCATION: 7220 Rendon Bloodworth Rd  Mansfield TX 76063
GEO:32.572741;-97.2042229
END:VEVENT
END:VCALENDAR