BEGIN:VCALENDAR
VERSION:2.0
PRODID:-//Tukios.com/
BEGIN:VEVENT
UID:b87c2376-bc0a-43c8-86c8-8478e37dcc80@www.skyvuefuneralhome.com
DTSTAMP:20260424T204808Z
DTSTART:20260514T230000Z
DTEND:20260515T020000Z
SUMMARY:Service of Songs
DESCRIPTION:
URL:https://www.skyvuefuneralhome.com/obituaries/kofoworola-jinadu
LOCATION: 7220 Rendon Bloodworth Rd  Mansfield TX 76063
GEO:32.572741;-97.2042229
END:VEVENT
END:VCALENDAR