BEGIN:VCALENDAR
VERSION:2.0
PRODID:-//Tukios.com/
BEGIN:VEVENT
UID:baf90711-4dff-47d5-9633-91ed66d459d4@www.skyvuefuneralhome.com
DTSTAMP:20260421T181711Z
DTSTART:20260428T200000Z
DTEND:20260428T203000Z
SUMMARY:Graveside Service
DESCRIPTION:
URL:https://www.skyvuefuneralhome.com/obituaries/john-kelley
LOCATION: 2000 Mountain Creek Pkwy  Dallas TX 75211
GEO:32.7156123;-96.9421747
END:VEVENT
END:VCALENDAR