BEGIN:VCALENDAR
VERSION:2.0
PRODID:-//Tukios.com/
BEGIN:VEVENT
UID:97c374df-1b7b-4cbc-9fde-e4ac3a6f98cc@www.skyvuefuneralhome.com
DTSTAMP:20260423T211547Z
DTSTART:20260507T160000Z
DTEND:20260507T163000Z
SUMMARY:Graveside Service
DESCRIPTION:
URL:https://www.skyvuefuneralhome.com/obituaries/betty-crawford
LOCATION: 2000 Mountain Creek Pkwy  Dallas TX 75211
GEO:32.7156123;-96.9421747
END:VEVENT
END:VCALENDAR